BEGIN:VCALENDAR
VERSION:2.0
PRODID:-//Formazione Lattes Editori - ECPv6.15.12.2//NONSGML v1.0//EN
CALSCALE:GREGORIAN
METHOD:PUBLISH
X-WR-CALNAME:Formazione Lattes Editori
X-ORIGINAL-URL:https://web.latteseditori.it
X-WR-CALDESC:Eventi per Formazione Lattes Editori
REFRESH-INTERVAL;VALUE=DURATION:PT1H
X-Robots-Tag:noindex
X-PUBLISHED-TTL:PT1H
BEGIN:VTIMEZONE
TZID:Europe/Rome
BEGIN:DAYLIGHT
TZOFFSETFROM:+0100
TZOFFSETTO:+0200
TZNAME:CEST
DTSTART:20250330T010000
END:DAYLIGHT
BEGIN:STANDARD
TZOFFSETFROM:+0200
TZOFFSETTO:+0100
TZNAME:CET
DTSTART:20251026T010000
END:STANDARD
BEGIN:DAYLIGHT
TZOFFSETFROM:+0100
TZOFFSETTO:+0200
TZNAME:CEST
DTSTART:20260329T010000
END:DAYLIGHT
BEGIN:STANDARD
TZOFFSETFROM:+0200
TZOFFSETTO:+0100
TZNAME:CET
DTSTART:20261025T010000
END:STANDARD
BEGIN:DAYLIGHT
TZOFFSETFROM:+0100
TZOFFSETTO:+0200
TZNAME:CEST
DTSTART:20270328T010000
END:DAYLIGHT
BEGIN:STANDARD
TZOFFSETFROM:+0200
TZOFFSETTO:+0100
TZNAME:CET
DTSTART:20271031T010000
END:STANDARD
END:VTIMEZONE
BEGIN:VEVENT
DTSTART;TZID=Europe/Rome:20260420T163000
DTEND;TZID=Europe/Rome:20260420T173000
DTSTAMP:20260420T120515
CREATED:20260211T133216Z
LAST-MODIFIED:20260224T102434Z
UID:10000234-1776702600-1776706200@web.latteseditori.it
SUMMARY:Occhio alla rete: la sicurezza digitale spiegata bene
DESCRIPTION:Destinatari\nDocenti della Scuola Secondaria di Primo Grado. \nProgrammaLa cybersicurezza è oggi una competenza fondamentale per vivere e apprendere in modo consapevole nel mondo digitale. La scuola ha un ruolo centrale nel guidare gli studenti a comprendere come proteggere dati\, identità e dispositivi\, sviluppando responsabilità\, senso critico e comportamenti sicuri online. \nQuesto webinar accompagna i docenti in un percorso introduttivo alla cybersecurity\, partendo dalla comprensione di come viaggiano le informazioni nei sistemi digitali e di quali siano i principali rischi legati all’uso delle tecnologie: dalla gestione delle password alla protezione dei dati personali\, fino al riconoscimento di minacce come phishing\, malware e uso improprio delle informazioni. \nAttraverso esempi concreti e situazioni didattiche trasferibili in classe\, verrà mostrato come affrontare il tema della sicurezza digitale con un approccio educativo e operativo\, favorendo negli studenti consapevolezza\, autonomia e responsabilità nell’uso delle tecnologie. Il percorso offrirà inoltre spunti per integrare la cybersicurezza nell’insegnamento della tecnologia e nell’educazione alla cittadinanza digitale. \nObiettivi didattici \n\nComprendere i principi fondamentali della cybersicurezza e della protezione dei dati.\nRiconoscere i principali rischi e le minacce online.\nPromuovere comportamenti sicuri e responsabili nell’uso di dispositivi e piattaforme.\nSaper spiegare agli studenti come proteggere identità digitale\, password e informazioni personali.\nIntegrare la cybersecurity nei percorsi di tecnologia e di educazione alla cittadinanza digitale.\n\nUn appuntamento formativo pensato per i docenti che desiderano educare studentesse e studenti a un uso sicuro\, consapevole e responsabile del digitale\, trasformando la tecnologia in uno strumento di crescita\, autonomia e cittadinanza attiva. \nRelatrice\nIlaria Marrazzo – Consulente didattica e formatrice nel settore dell’Education Technology\, con particolare attenzione all’uso delle tecnologie per l’inclusione e lo sviluppo delle competenze digitali\, l’adozione di metodologie didattiche innovative\, lo sviluppo del pensiero computazionale e l’uso della gamification e della robotica educativa per l’attivazione delle competenze trasversali. \n  \nAl termine del webinar verrà rilasciato un attestato di frequenza. \n\n\nLattes Editori è ente accreditato dal MIUR per la formazione del personale della scuola\, secondo la DM 170 del 2016. \n\nPartecipazione gratuita\, iscrizione obbligatoria.\n\nModalità di partecipazione\nIl link per il collegamento alla piattaforma viene inviato il giorno stesso dell’evento\, nel pomeriggio.\nTalvolta viene recapitato nella cartella Spam. Chi non lo ricevesse può scrivere una mail a formazione@latteseditori.it. \nLa registrazione e le slide saranno a disposizione degli iscritti al corso.\nL’attestato di partecipazione verrà rilasciato solo a coloro che seguiranno la diretta. \n\nISCRIVITI ORA
URL:https://web.latteseditori.it/corso/occhio-alla-rete-la-sicurezza-digitale-spiegata-bene/
LOCATION:online
CATEGORIES:Webinar gratuiti
ATTACH;FMTTYPE=image/jpeg:https://web.latteseditori.it/wp-content/uploads/2026/02/Immagini-sito-1.jpg
END:VEVENT
END:VCALENDAR